BEGIN:VCALENDAR
VERSION:2.0
PRODID:-//109.235.174.5//NONSGML kigkonsult.se iCalcreator 2.26.9//
CALSCALE:GREGORIAN
METHOD:PUBLISH
X-FROM-URL:https://alholmen.nu/wp
X-WR-TIMEZONE:Europe/Stockholm
BEGIN:VTIMEZONE
TZID:Europe/Stockholm
X-LIC-LOCATION:Europe/Stockholm
BEGIN:STANDARD
DTSTART:20251026T030000
TZOFFSETFROM:+0200
TZOFFSETTO:+0100
RDATE:20261025T030000
TZNAME:CET
END:STANDARD
BEGIN:DAYLIGHT
DTSTART:20260329T020000
TZOFFSETFROM:+0100
TZOFFSETTO:+0200
RDATE:20270328T020000
TZNAME:CEST
END:DAYLIGHT
END:VTIMEZONE
BEGIN:VEVENT
UID:ai1ec-1919@alholmen.nu/wp
DTSTAMP:20260425T143010Z
CATEGORIES:
CONTACT:
DESCRIPTION:
DTSTART;VALUE=DATE:20240803
DTEND;VALUE=DATE:20240804
SEQUENCE:0
SUMMARY:Slåtter Östra ängen  – Anders projektleder
URL:https://alholmen.nu/wp/aktivitet/slatter-ostra-angen-anders-projektlede
 r/
X-COST-TYPE:free
END:VEVENT
BEGIN:VEVENT
UID:ai1ec-1920@alholmen.nu/wp
DTSTAMP:20260425T143010Z
CATEGORIES:
CONTACT:
DESCRIPTION:
DTSTART;VALUE=DATE:20240810
DTEND;VALUE=DATE:20240811
SEQUENCE:0
SUMMARY:Räfsning Östra ängen – Anders projektleder
URL:https://alholmen.nu/wp/aktivitet/rafsning-ostra-angen-anders-projektled
 er/
X-COST-TYPE:free
END:VEVENT
BEGIN:VEVENT
UID:ai1ec-1921@alholmen.nu/wp
DTSTAMP:20260425T143010Z
CATEGORIES:
CONTACT:
DESCRIPTION:
DTSTART;VALUE=DATE:20240810
DTEND;VALUE=DATE:20240811
SEQUENCE:0
SUMMARY:Slåtter Telefonängen – Peter Jakobsson projektleder
URL:https://alholmen.nu/wp/aktivitet/slatter-telefonangen-peter-jakobsson-p
 rojektleder/
X-COST-TYPE:free
END:VEVENT
BEGIN:VEVENT
UID:ai1ec-1922@alholmen.nu/wp
DTSTAMP:20260425T143010Z
CATEGORIES:
CONTACT:
DESCRIPTION:
DTSTART;VALUE=DATE:20240817
DTEND;VALUE=DATE:20240818
SEQUENCE:0
SUMMARY:Räfsning Telefonängen – Peter Jakobsson projektleder
URL:https://alholmen.nu/wp/aktivitet/rafsning-telefonangen-peter-jakobsson-
 projektleder/
X-COST-TYPE:free
END:VEVENT
BEGIN:VEVENT
UID:ai1ec-1918@alholmen.nu/wp
DTSTAMP:20260425T143010Z
CATEGORIES:
CONTACT:
DESCRIPTION:
DTSTART;VALUE=DATE:20241012
DTEND;VALUE=DATE:20241013
SEQUENCE:0
SUMMARY:Stora röjningen – Charlotte de Besche projektleder
URL:https://alholmen.nu/wp/aktivitet/stora-rojningen-anders-projektleder/
X-COST-TYPE:free
END:VEVENT
BEGIN:VEVENT
UID:ai1ec-1818@alholmen.nu/wp
DTSTAMP:20260425T143010Z
CATEGORIES:
CONTACT:
DESCRIPTION:
DTSTART;TZID=Europe/Stockholm:20230610T130000
SEQUENCE:0
SUMMARY:Årsmöte
URL:https://alholmen.nu/wp/aktivitet/arsmote-4/
X-COST-TYPE:free
X-INSTANT-EVENT:1
END:VEVENT
BEGIN:VEVENT
UID:ai1ec-1842@alholmen.nu/wp
DTSTAMP:20260425T143010Z
CATEGORIES:
CONTACT:
DESCRIPTION:
DTSTART;TZID=Europe/Stockholm:20230610T130000
SEQUENCE:0
SUMMARY:Årsmöte fotbollsplanen
URL:https://alholmen.nu/wp/aktivitet/arsmote-fotbollsplanen/
X-COST-TYPE:free
X-INSTANT-EVENT:1
END:VEVENT
BEGIN:VEVENT
UID:ai1ec-1851@alholmen.nu/wp
DTSTAMP:20260425T143010Z
CATEGORIES:
CONTACT:
DESCRIPTION:
DTSTART;TZID=Europe/Stockholm:20230623T143000
SEQUENCE:0
SUMMARY:Midsommarfirande
URL:https://alholmen.nu/wp/aktivitet/midsommarfirande-3/
X-COST-TYPE:free
X-INSTANT-EVENT:1
END:VEVENT
BEGIN:VEVENT
UID:ai1ec-1852@alholmen.nu/wp
DTSTAMP:20260425T143010Z
CATEGORIES:
CONTACT:
DESCRIPTION:
DTSTART;TZID=Europe/Stockholm:20230624T140000
SEQUENCE:0
SUMMARY:Midsommardags fotboll och brännboll
URL:https://alholmen.nu/wp/aktivitet/midsommardags-fotboll-och-brannboll/
X-COST-TYPE:free
X-INSTANT-EVENT:1
END:VEVENT
BEGIN:VEVENT
UID:ai1ec-1998@alholmen.nu/wp
DTSTAMP:20260425T143010Z
CATEGORIES:
CONTACT:
DESCRIPTION:
DTSTART;TZID=Europe/Stockholm:20250620T143000
LOCATION:Midsommarängen och fotbollsplanen
SEQUENCE:0
SUMMARY:Midsommarfirande
URL:https://alholmen.nu/wp/aktivitet/midsommarfirande-4/
X-COST-TYPE:free
X-INSTANT-EVENT:1
END:VEVENT
BEGIN:VEVENT
UID:ai1ec-1968@alholmen.nu/wp
DTSTAMP:20260425T143010Z
CATEGORIES:
CONTACT:
DESCRIPTION:
DTSTART;TZID=Europe/Stockholm:20250628T100000
LOCATION:Fotbollsplanen\, Alholmen.
SEQUENCE:0
SUMMARY:Årsmöte Alholmens tomtägarförening
URL:https://alholmen.nu/wp/aktivitet/arsmote-alholmens-tomtagarforening/
X-COST-TYPE:free
X-INSTANT-EVENT:1
END:VEVENT
END:VCALENDAR
